BEGIN:VCALENDAR
VERSION:2.0
PRODID:-//wp-events-plugin.com//7.2.3.1//EN
BEGIN:VEVENT
UID:22@centeringprayerchicago.org
DTSTART:20170408T090000Z
DTEND:20170408T160000Z
DTSTAMP:20170218T194553Z
URL:https://www.centeringprayerchicago.org/events/wisdom-mary-magdalene/
SUMMARY:The Wisdom of Mary Magdalene
DESCRIPTION:THE WISDOM OF MARY MAGDALENE - APRIL 2017\n\nThis workshop will
  explore Mary Magdalene’s unwavering presence and devotion throughout th
 e Paschal Mystery – and how conscious love can be a transforming force i
 n our own lives as well. A contemplative rhythm will be held throughout th
 e day: moving between meditative silence\, sacred chanting\, conscious wor
 k\, teaching\, and reflective dialogue.
END:VEVENT
END:VCALENDAR